BEGIN:VCALENDAR
VERSION:2.0
PRODID:-//Kölner News Journal - ECPv6.15.20//NONSGML v1.0//EN
CALSCALE:GREGORIAN
METHOD:PUBLISH
X-ORIGINAL-URL:https://www.koelner-newsjournal.de
X-WR-CALDESC:Veranstaltungen für Kölner News Journal
REFRESH-INTERVAL;VALUE=DURATION:PT1H
X-Robots-Tag:noindex
X-PUBLISHED-TTL:PT1H
BEGIN:VTIMEZONE
TZID:Europe/Berlin
BEGIN:DAYLIGHT
TZOFFSETFROM:+0100
TZOFFSETTO:+0200
TZNAME:CEST
DTSTART:20250330T010000
END:DAYLIGHT
BEGIN:STANDARD
TZOFFSETFROM:+0200
TZOFFSETTO:+0100
TZNAME:CET
DTSTART:20251026T010000
END:STANDARD
BEGIN:DAYLIGHT
TZOFFSETFROM:+0100
TZOFFSETTO:+0200
TZNAME:CEST
DTSTART:20260329T010000
END:DAYLIGHT
BEGIN:STANDARD
TZOFFSETFROM:+0200
TZOFFSETTO:+0100
TZNAME:CET
DTSTART:20261025T010000
END:STANDARD
BEGIN:DAYLIGHT
TZOFFSETFROM:+0100
TZOFFSETTO:+0200
TZNAME:CEST
DTSTART:20270328T010000
END:DAYLIGHT
BEGIN:STANDARD
TZOFFSETFROM:+0200
TZOFFSETTO:+0100
TZNAME:CET
DTSTART:20271031T010000
END:STANDARD
END:VTIMEZONE
BEGIN:VEVENT
DTSTART;TZID=Europe/Berlin:20261105T190000
DTEND;TZID=Europe/Berlin:20261105T190000
DTSTAMP:20260422T202732
CREATED:20260410T043651Z
LAST-MODIFIED:20260410T043926Z
UID:84117-1793905200-1793905200@www.koelner-newsjournal.de
SUMMARY:Das Phantom der Oper kehrt nach Deutschland zurück! Premiere im November 2026 in Köln
DESCRIPTION:Das Musical erzählt die geheimnisvolle Geschichte eines maskierten Mannes\, der unter der Pariser Oper lebt und sich unsterblich in die junge Sopranistin Christine Daaé verliebt. Zwischen Obsession\, Eifersucht und großer Liebe entspinnt sich eine dramatische Dreiecksgeschichte voller Spannung und Emotionen. \nDie erste Vorstellung von Das Phantom der Oper findet am 5. November statt\, die offizielle Premiere wird am 15. November gefeiert. Mit der Rückkehr dieses weltweiten Musical-Phänomens beginnt nicht nur ein neues Kapitel dieser außergewöhnlichen Erfolgsgeschichte in Deutschland – 2026 feiert der Musical Dome außerdem sein 30-jähriges Bestehen. \nTickets für Das Phantom der Oper sind ab sofort erhältlich. \nWeitere Informationen und Tickets unter: www.phantom-der-oper.de \nCameron Mackintoshs spektakuläre Neuinszenierung von Andrew Lloyd Webbers Das Phantom der Oper – nur im öln. \nPreviews: \nab 5. November 2026 \nPremiere: \n\nNovember 2026\n\nTickets: \nTickets für Das Phantom der Oper sind ab heute über die offizielle Webseite und an ausgewählten Vorverkaufsstellen verfügbar und sind ab 59\,99 EUR erhältlich. \nKöln Stadtführung\nVorstellungen: \nDienstag\, 19:00 Uhr \nMittwoch\, 19:30 Uhr \nDonnerstag\, 19:30 Uhr \nFreitag\, 19:30 Uhr \nSamstag\, 14:30 Uhr und 19:30 Uhr \nSonntag\, 14:30 Uhr und 19:30 Uhr \nWebsite: \nwww.phantom-der-oper.de \nSocial Media: \nInstagram\, Facebook \n@phantomderoperde
URL:https://www.koelner-newsjournal.de/event/das-phantom-der-oper-kehrt-nach-deutschland-zurueck-premiere-im-november-2026-in-koeln/
LOCATION:Musical Dome Köln\, Goldgasse 1\, Köln\, Deutschland\, 50668\, Germany
CATEGORIES:Standard
ATTACH;FMTTYPE=image/jpeg:https://www.koelner-newsjournal.de/wp-content/uploads/2026/03/atg-2.jpg
END:VEVENT
END:VCALENDAR