BEGIN:VCALENDAR
VERSION:2.0
PRODID:-//Kölner News Journal - ECPv6.15.20//NONSGML v1.0//EN
CALSCALE:GREGORIAN
METHOD:PUBLISH
X-ORIGINAL-URL:https://www.koelner-newsjournal.de
X-WR-CALDESC:Veranstaltungen für Kölner News Journal
REFRESH-INTERVAL;VALUE=DURATION:PT1H
X-Robots-Tag:noindex
X-PUBLISHED-TTL:PT1H
BEGIN:VTIMEZONE
TZID:Europe/Berlin
BEGIN:DAYLIGHT
TZOFFSETFROM:+0100
TZOFFSETTO:+0200
TZNAME:CEST
DTSTART:20250330T010000
END:DAYLIGHT
BEGIN:STANDARD
TZOFFSETFROM:+0200
TZOFFSETTO:+0100
TZNAME:CET
DTSTART:20251026T010000
END:STANDARD
BEGIN:DAYLIGHT
TZOFFSETFROM:+0100
TZOFFSETTO:+0200
TZNAME:CEST
DTSTART:20260329T010000
END:DAYLIGHT
BEGIN:STANDARD
TZOFFSETFROM:+0200
TZOFFSETTO:+0100
TZNAME:CET
DTSTART:20261025T010000
END:STANDARD
BEGIN:DAYLIGHT
TZOFFSETFROM:+0100
TZOFFSETTO:+0200
TZNAME:CEST
DTSTART:20270328T010000
END:DAYLIGHT
BEGIN:STANDARD
TZOFFSETFROM:+0200
TZOFFSETTO:+0100
TZNAME:CET
DTSTART:20271031T010000
END:STANDARD
END:VTIMEZONE
BEGIN:VEVENT
DTSTART;TZID=Europe/Berlin:20260411T200000
DTEND;TZID=Europe/Berlin:20260511T000000
DTSTAMP:20260420T120514
CREATED:20250312T062533Z
LAST-MODIFIED:20250312T062533Z
UID:80933-1775937600-1778457600@www.koelner-newsjournal.de
SUMMARY:ABBAMANIA THE SHOW: DANCING QUEEN – Tour 2026
DESCRIPTION:„You can dance\, you can jive – having the time of your life!“ Eventim-PreSale: Mittwoch\, 12.03.2025\, 10.00 Uhr. Allgemeiner Vorverkaufsstart: Freitag\, 14.03.2025\, 10.00 Uhr\n\n\nABBAMANIA THE SHOW vereint alle Elemente\, die ABBA weltberühmt gemacht haben und bietet ein außergewöhnliches Konzerterlebnis\, das die Faszination auch nach einem halben Jahrhundert ungebrochen weiterträgt. \nAm Samstag\, den 11.04.2026\, können sich die Gäste der LANXESS arena bei ABBAMANIA THE SHOW erneut von den beliebtesten ABBA-Hits begeistern lassen.\n\nAb dem 14.03.2025\, 10.00 Uhr\, Tickets sichern:\n\nunter der LANXESS arena-Tickethotline +49 (0) 221-8020\nim LANXESS arena Ticketshop\n(Willy-Brandt-Platz 3\, 50679 Köln)\nauf unserer Homepage\noder auf unseren Social Media Kanälen\nund an allen bekannten Vorverkaufsstellen.
URL:https://www.koelner-newsjournal.de/event/abbamania-the-show-dancing-queen-tour-2026/
LOCATION:Lanxess Arena\, Willy-Brandt-Platz 2\, Köln\, NRW\, 50679
CATEGORIES:Standard
ATTACH;FMTTYPE=image/jpeg:https://www.koelner-newsjournal.de/wp-content/uploads/2025/03/ABBA-Lanxess-arena.jpg
END:VEVENT
BEGIN:VEVENT
DTSTART;TZID=Europe/Berlin:20260426T080000
DTEND;TZID=Europe/Berlin:20260426T170000
DTSTAMP:20260420T120514
CREATED:20251009T094942Z
LAST-MODIFIED:20251009T094942Z
UID:82848-1777190400-1777222800@www.koelner-newsjournal.de
SUMMARY:HOLIDAY ON ICE präsentiert CINEMA OF DREAMS mit Max Giesinger als Gaststar
DESCRIPTION:Vom 19.11.2025 bis zum 26.04.2026 begeistert CINEMA OF DREAMS das Publikum in 21 deutschen Städten mit ganz großem Kino auf dem Eis. Inspiriert von Hollywood-Blockbustern erzählt die neue Show eine bewegende Geschichte über Freundschaft\, Fantasie und den Mut zu träumen – inszeniert mit spektakulärem Eiskunstlauf\, opulenten Bildern und einem emotionalen Soundtrack. \nIm Dock2 stellten heute das Kreativteam Peter O’Keeffe (CEO und Produzent)\, Kim Gavin (Kreativdirektor) und Adam Blake (Choreograf) die neue Show CINEMA OF DREAMS vor. Dabei wurden erste Szenen auf dem Eis gezeigt und Köln-Gaststar Max Giesinger sorgte für wahre Gänsehautmomente. \nAls besonderen Stargast hat HOLIDAY ON ICE bei der CINEMA OF DREAMS Tour Max Giesinger bei ausgewählten Terminen mit dabei. Max Giesinger stand das erste Mal live auf dem Eis und sorgte im Dock2 bei der Präsentation seines Hits „Wenn sie tanzt“ für einen unvergesslichen Moment. „Wow! Also\, ich stand schon auf so einigen Bühnen – aber heute habe ich zum ersten Mal auf dem Eis performt. Das hat echt Spaß gemacht!“\, erzählt Max Giesinger begeistert. „Ich liebe es\, Dinge zum ersten Mal zu machen\, das ist immer richtig aufregend!“
URL:https://www.koelner-newsjournal.de/event/holiday-on-ice-praesentiert-cinema-of-dreams-mit-max-giesinger-als-gaststar/
LOCATION:Lanxess Arena\, Willy-Brandt-Platz 2\, Köln\, NRW\, 50679
CATEGORIES:Standard
ATTACH;FMTTYPE=image/jpeg:https://www.koelner-newsjournal.de/wp-content/uploads/2025/10/Pressekonferenz_HOI_Gaststar_Max_Foto_Lukas_Schulze_.jpg
END:VEVENT
BEGIN:VEVENT
DTSTART;TZID=Europe/Berlin:20260426T110000
DTEND;TZID=Europe/Berlin:20260426T170000
DTSTAMP:20260420T120514
CREATED:20260410T050417Z
LAST-MODIFIED:20260410T050430Z
UID:84124-1777201200-1777222800@www.koelner-newsjournal.de
SUMMARY:Klaviermatinée mit Viktoria Baskakova - Haus des Waldes Köln\, Gut Leidenhausen (Porz‑Eil)
DESCRIPTION:Klaviermatinée mit Viktoria Baskakova \nSonntag\, 26. April 2026\, 11 Uhr (Einlass ab ca. 10:30 Uhr\, Ende ca. 12:15 Uhr) \nHaus des Waldes Köln\, Gut Leidenhausen (Porz‑Eil) \nEintritt frei  \nAnmeldung unter: hdw-konzerte@gmx.de\n(Begrenzte Anzahl Sitzplätze – bitte möglichst anmelden!) \nNach vier Jahren Umbaupause kehren die beliebten Klaviermatinéen ins Haus des Waldes zurück – und wir starten direkt mit einem besonderen musikalischen Vormittag. \nDie international ausgezeichnete Pianistin Viktoria Baskakova gestaltet ein Programm\, das wie das frisch renovierte Haus des Waldes ganz im Zeichen von Wandel\, Aufbruch und Wiederbegegnung steht. \nIhr Programm verbindet drei Werke\, die auf unterschiedliche Weise Transformation erzählen: \n\nLudwig van Beethoven: « Les Adieux »– Abschied\, Abwesenheit\, Wiedersehen\nRobert Schumann: Sinfonische Etüden – Variationen voller innerer Metamorphosen\nMaurice Ravel: La Valse– ein schillernder Tanz zwischen Eleganz und Aufbruch
URL:https://www.koelner-newsjournal.de/event/klaviermatinee-mit-viktoria-baskakova-haus-des-waldes-koeln-gut-leidenhausen-porz-eil/
LOCATION:Gut Leidenhausen\, Innenhof an der Linde\, Köln\, NRW
CATEGORIES:Standard
ATTACH;FMTTYPE=image/jpeg:https://www.koelner-newsjournal.de/wp-content/uploads/2022/06/DSC_0032-scaled-1.jpg
END:VEVENT
END:VCALENDAR